BEGIN:VCALENDAR
VERSION:2.0
PRODID:-//ChurchDev//Events//EN
CALSCALE:GREGORIAN
METHOD:PUBLISH
BEGIN:VEVENT
UID:3517-20250601@www.springfieldkypres.church
SUMMARY:Sunday School
DTSTART:20250601T140000Z
DTEND:20250601T150000Z
DESCRIPTION:https://www.springfieldkypres.church/events/sunday-school/
LOCATION:140 East Main St. Springfield\, KY 40069
URL:https://www.springfieldkypres.church/events/sunday-school/
DTSTAMP:20260419T212647Z
END:VEVENT
END:VCALENDAR
