BEGIN:VCALENDAR
VERSION:2.0
PRODID:-//ChurchDev//Events//EN
CALSCALE:GREGORIAN
METHOD:PUBLISH
BEGIN:VEVENT
UID:3519-20250601@www.springfieldkypres.church
SUMMARY:Worship
DTSTART:20250601T150000Z
DTEND:20250601T160000Z
DESCRIPTION:https://www.springfieldkypres.church/events/worship/
LOCATION:140 East Main St. Springfield\, KY 40069
URL:https://www.springfieldkypres.church/events/worship/
DTSTAMP:20260419T212658Z
END:VEVENT
END:VCALENDAR
