BEGIN:VCALENDAR
VERSION:2.0
PRODID:-//ChurchDev//Events//EN
CALSCALE:GREGORIAN
METHOD:PUBLISH
BEGIN:VEVENT
UID:3672-20260128@www.springfieldkypres.church
SUMMARY:Choir Rehearsal for Easter Cantata
DTSTART:20260128T230000Z
DTEND:20260129T000000Z
DESCRIPTION:Join the choir! All are welcome to join us as we prepare our Easter Cantata!\\n\\nhttps://www.springfieldkypres.church/events/choir-rehearsal-for-easter-cantata/
LOCATION:140 East Main St. Springfield\, KY 40069
URL:https://www.springfieldkypres.church/events/choir-rehearsal-for-easter-cantata/
DTSTAMP:20260419T212648Z
END:VEVENT
END:VCALENDAR
