BEGIN:VCALENDAR
VERSION:2.0
PRODID:-//ChurchDev//Events//EN
CALSCALE:GREGORIAN
METHOD:PUBLISH
BEGIN:VEVENT
UID:3674-20260405@www.springfieldkypres.church
SUMMARY:Easter Sunday &#8211\; Choir Cantata
DTSTART:20260405T150000Z
DTEND:20260405T160000Z
DESCRIPTION:https://www.springfieldkypres.church/events/easter-sunday-choir-cantata/
LOCATION:140 East Main St. Springfield\, KY 40069
URL:https://www.springfieldkypres.church/events/easter-sunday-choir-cantata/
DTSTAMP:20260419T212641Z
END:VEVENT
END:VCALENDAR
